BEGIN:VCALENDAR
VERSION:2.0
PRODID:-//ATEMverein Deutschland e.V. - ECPv6.15.17//NONSGML v1.0//EN
CALSCALE:GREGORIAN
METHOD:PUBLISH
X-WR-CALNAME:ATEMverein Deutschland e.V.
X-ORIGINAL-URL:https://atemverein.de
X-WR-CALDESC:Veranstaltungen für ATEMverein Deutschland e.V.
REFRESH-INTERVAL;VALUE=DURATION:PT1H
X-Robots-Tag:noindex
X-PUBLISHED-TTL:PT1H
BEGIN:VTIMEZONE
TZID:Europe/Berlin
BEGIN:DAYLIGHT
TZOFFSETFROM:+0100
TZOFFSETTO:+0200
TZNAME:CEST
DTSTART:20230326T010000
END:DAYLIGHT
BEGIN:STANDARD
TZOFFSETFROM:+0200
TZOFFSETTO:+0100
TZNAME:CET
DTSTART:20231029T010000
END:STANDARD
BEGIN:DAYLIGHT
TZOFFSETFROM:+0100
TZOFFSETTO:+0200
TZNAME:CEST
DTSTART:20240331T010000
END:DAYLIGHT
BEGIN:STANDARD
TZOFFSETFROM:+0200
TZOFFSETTO:+0100
TZNAME:CET
DTSTART:20241027T010000
END:STANDARD
BEGIN:DAYLIGHT
TZOFFSETFROM:+0100
TZOFFSETTO:+0200
TZNAME:CEST
DTSTART:20250330T010000
END:DAYLIGHT
BEGIN:STANDARD
TZOFFSETFROM:+0200
TZOFFSETTO:+0100
TZNAME:CET
DTSTART:20251026T010000
END:STANDARD
END:VTIMEZONE
BEGIN:VEVENT
DTSTART;TZID=Europe/Berlin:20241215T110000
DTEND;TZID=Europe/Berlin:20241215T140000
DTSTAMP:20260422T060405
CREATED:20240621T124132Z
LAST-MODIFIED:20240621T131541Z
UID:10000042-1734260400-1734271200@atemverein.de
SUMMARY:ATMEN zum SONNTAG
DESCRIPTION:mit Maria Faust\, Tobias Fritz und Dirk Weber \n\n\n\nDie monatlich stattfindende offene Atemgruppe mit Maria\, Dirk und Tobias lädt zum bewusst verbundenen Atmen ein. Bei jedem Treffen wird diese Atmung vorgestellt und von einfachen\, erfrischenden Atem- und Körperübungen flankiert. \n\n\n\nDas bewusste Atmen führt Dich in Dein Inneres\, sodass Du bei Dir selbst ankommst\, tief durchatmest\, in Deine Gefühle hineinatmest und Dich damit freiatmest. Mit dem Atmen übst Du Dich im Loslassen und tankst Kraft. Altes kann sich lösen und verarbeitet werden. \n\n\n\nDieser Sonntag Vormittag verbindet Dich mit Deinem Atem und Deinen Gefühlen und zeigt Dir\, wie Du Dich über das Raumgeben Deiner emotionalen Prozesse auf die Integration Deiner Themen zubewegst. Du wirst von einem erfahrenen Team begleitet\, das Dich auf diesem Weg unterstützt. \n\n\n\nDas gemeinsame Atmen in der Gruppe verstärkt den Atemfluss und öffnet den Raum für persönliche Themen\, wie das Raumnehmen und Zeigen der eigenen Gefühle und die Wahrnehmung der eigenen Grenzen. Es ergibt sich ein großes Übungsfeld zwischen dem eigenen Inneren und Äußeren. \n\n\n\nDieses Angebot richtet sich sowohl an Interessierte\, die die bewusst verbundene Atmung kennenlernen\, als auch an Menschen\, die die Atmung vertiefend in der Gruppe erfahren wollen. Somit ist die Gruppe sowohl zum Schnuppern als auch zur regelmäßigen Teilnahme geeignet.
URL:https://atemverein.de/event/atmen-zum-sonntag/
LOCATION:RAUM für ZEIT\, Im Hilgersfeld 24\, Bergisch Gladbach\, 51427
CATEGORIES:Atemschule
ATTACH;FMTTYPE=image/png:https://atemverein.de/wp-content/uploads/2024/06/500_72_Atmen-zum-Sonntag_Martin-Misere.png
END:VEVENT
BEGIN:VEVENT
DTSTART;TZID=Europe/Berlin:20241117T110000
DTEND;TZID=Europe/Berlin:20241117T140000
DTSTAMP:20260422T060405
CREATED:20240621T124050Z
LAST-MODIFIED:20240621T132133Z
UID:10000041-1731841200-1731852000@atemverein.de
SUMMARY:ATMEN zum SONNTAG
DESCRIPTION:mit Maria Faust\, Tobias Fritz und Dirk Weber \n\n\n\nDie monatlich stattfindende offene Atemgruppe mit Maria\, Dirk und Tobias lädt zum bewusst verbundenen Atmen ein. Bei jedem Treffen wird diese Atmung vorgestellt und von einfachen\, erfrischenden Atem- und Körperübungen flankiert. \n\n\n\nDas bewusste Atmen führt Dich in Dein Inneres\, sodass Du bei Dir selbst ankommst\, tief durchatmest\, in Deine Gefühle hineinatmest und Dich damit freiatmest. Mit dem Atmen übst Du Dich im Loslassen und tankst Kraft. Altes kann sich lösen und verarbeitet werden. \n\n\n\nDieser Sonntag Vormittag verbindet Dich mit Deinem Atem und Deinen Gefühlen und zeigt Dir\, wie Du Dich über das Raumgeben Deiner emotionalen Prozesse auf die Integration Deiner Themen zubewegst. Du wirst von einem erfahrenen Team begleitet\, das Dich auf diesem Weg unterstützt. \n\n\n\nDas gemeinsame Atmen in der Gruppe verstärkt den Atemfluss und öffnet den Raum für persönliche Themen\, wie das Raumnehmen und Zeigen der eigenen Gefühle und die Wahrnehmung der eigenen Grenzen. Es ergibt sich ein großes Übungsfeld zwischen dem eigenen Inneren und Äußeren. \n\n\n\nDieses Angebot richtet sich sowohl an Interessierte\, die die bewusst verbundene Atmung kennenlernen\, als auch an Menschen\, die die Atmung vertiefend in der Gruppe erfahren wollen. Somit ist die Gruppe sowohl zum Schnuppern als auch zur regelmäßigen Teilnahme geeignet.
URL:https://atemverein.de/event/atmen-zum-sonntag-1/
LOCATION:RAUM für ZEIT\, Im Hilgersfeld 24\, Bergisch Gladbach\, 51427
CATEGORIES:Atemschule
ATTACH;FMTTYPE=image/png:https://atemverein.de/wp-content/uploads/2024/06/500_72_Atmen-zum-Sonntag_Martin-Misere.png
END:VEVENT
END:VCALENDAR