BEGIN:VCALENDAR
VERSION:2.0
PRODID:-//ATEMverein Deutschland e.V. - ECPv6.15.17//NONSGML v1.0//EN
CALSCALE:GREGORIAN
METHOD:PUBLISH
X-WR-CALNAME:ATEMverein Deutschland e.V.
X-ORIGINAL-URL:https://atemverein.de
X-WR-CALDESC:Veranstaltungen für ATEMverein Deutschland e.V.
REFRESH-INTERVAL;VALUE=DURATION:PT1H
X-Robots-Tag:noindex
X-PUBLISHED-TTL:PT1H
BEGIN:VTIMEZONE
TZID:Europe/Berlin
BEGIN:DAYLIGHT
TZOFFSETFROM:+0100
TZOFFSETTO:+0200
TZNAME:CEST
DTSTART:20250330T010000
END:DAYLIGHT
BEGIN:STANDARD
TZOFFSETFROM:+0200
TZOFFSETTO:+0100
TZNAME:CET
DTSTART:20251026T010000
END:STANDARD
BEGIN:DAYLIGHT
TZOFFSETFROM:+0100
TZOFFSETTO:+0200
TZNAME:CEST
DTSTART:20260329T010000
END:DAYLIGHT
BEGIN:STANDARD
TZOFFSETFROM:+0200
TZOFFSETTO:+0100
TZNAME:CET
DTSTART:20261025T010000
END:STANDARD
BEGIN:DAYLIGHT
TZOFFSETFROM:+0100
TZOFFSETTO:+0200
TZNAME:CEST
DTSTART:20270328T010000
END:DAYLIGHT
BEGIN:STANDARD
TZOFFSETFROM:+0200
TZOFFSETTO:+0100
TZNAME:CET
DTSTART:20271031T010000
END:STANDARD
END:VTIMEZONE
BEGIN:VEVENT
DTSTART;TZID=Europe/Berlin:20260529T180000
DTEND;TZID=Europe/Berlin:20260531T160000
DTSTAMP:20260420T034639
CREATED:20241211T190050Z
LAST-MODIFIED:20251229T153537Z
UID:10000076-1780077600-1780243200@atemverein.de
SUMMARY:„Sakral Chakra“- Lebensfreude und Vitalität\, Sexualität und Körperverständnis
DESCRIPTION: \n\n\n\n\n\n\n\n„InBreath“ – “Life Mastery” Programm und Atemtraining 2026\n\n\n\n\n\n\n\n\n\n\n\n„Sakral Chakra“- Lebensfreude und Vitalität\, Sexualität und Körperverständnis\n\n\n\n\nGenieße ich mein Leben or ist es für mich Pflichterfüllung? Freue ich mich auf den Tag mit Energie oder befürchte ich die neuen Herausforderungen. Liebe ich meine Körper oder benütze ich ihn?Genieße ich mein Mann/Frau-Sein. Erlaube ich mir meine Bedürfnisse oder bin ich gefangen in elterlichen Verboten und alter Scham. Sexualität ist Energie und sollte frei fließen. Was hält mich zurück? Lebensfreude\, emotionale Ausgeglichenheit und mehr Selbstwertgefühl sind die Ergebnisse dieses Seminars. Mit 2 befreienden und affirmierend Atemsitzungen die dir ein neues Selbstgefühl ermöglichen. \n\n\n\n\n\n \n\n\n\n\n\nWochenendablauf:Ankunft: Freitag Nachmittag / Abend (Anreise Auto oder Zug)Beginn: 19.00 Abendessen 20.00 kurze Intro Runde & AtmenSamstag: 10.00 – 19.00 Thema\, Prozesse\, AtemsitzungSonntag: 9.00 – 16.00 Thema\, Prozesse\, Atemsitzung \nVeranstaltungsort: Atemhaus Hubertushof\,Poppenberg 5\, 95505 Immenreuth (Nähe Bayreuth) \n\n\n\n\n\n\n\n\n\n\n\n 
URL:https://atemverein.de/event/sexualitaet-und-energiefluss-2-6-2-2-2/
LOCATION:Atemhaus Hubertushof\, Poppenberg 5\, Immenreuth\, 95505
CATEGORIES:Institut für Atemtherapie
ATTACH;FMTTYPE=image/png:https://atemverein.de/wp-content/uploads/2024/12/Sakral-Chakra-1.png
ORGANIZER;CN="'InBreath' Institut f%C3%BCr Atemtherapie und transformelles Wachstum":MAILTO:info@inbreath.org
END:VEVENT
BEGIN:VEVENT
DTSTART;TZID=Europe/Berlin:20260604T100000
DTEND;TZID=Europe/Berlin:20260607T160000
DTSTAMP:20260420T034639
CREATED:20251229T164329Z
LAST-MODIFIED:20251230T081852Z
UID:10000116-1780567200-1780848000@atemverein.de
SUMMARY:6. Lebenslust- & Atem Festival (LAF)
DESCRIPTION:6. Lebenslust- & Atem Festival (LAF) \nWir freuen uns\, dich am 04.Juni – 07.Juni 2026 wieder begrüssen zu dürfen.\nDer Sommer zieht ins Land\, weckt Lebensgeister und wärmt die Herzen und Gemüter. Gerne wollen wir zu Deinem Wohlergehen beitragen\, und laden Dich hiermit ganz herzlich zu unserem 6.” Lebenslust”- Festival ein.\nHier werden die Kräfte der Heilung\, Transformation und der Herzverbindung geweckt und genährt. Im Kreis von gleichgesinnten\, offenen und gemeinschaftlich verbundenen Menschen leben wir auf und wachsen. Auf dem “Lebenslust” Atem Festival findest Du bewusstes Atmen in verschiedenen Formen\, Heilarbeit\, Yoga\, Konzerte\, Meditationen\, Workshops\, Klangheilung\, gemeinsames Trommeln\, Lagerfeuer\, Musik und Tanz…ein “transformatives\, tief bewegendes happening” über 4 Tage.\nDas “LAF” ist eine offene Veranstaltung\, aber keine öffentliche. d.h. es kommen nur Freunde und Freunde unserer Freunde\, gerne auch Familien. Neben dem gemeinsamen Miteinander und feiern steht jedoch das innere Wachsen und Aufwachen im Zentrum.\nAlle die unsere “Lebenslust”Atem Festivals erlebt haben waren begeistert. Sei auch Du dabei! Du bist willkommen! https://www.atemhaus-hubertushof.de/lebenslust-festival/
URL:https://atemverein.de/event/intensivausbildung-warmwasser-geburt-2/
CATEGORIES:Allgemein,Institut für Atemtherapie
ATTACH;FMTTYPE=image/png:https://atemverein.de/wp-content/uploads/2025/12/4.png
ORGANIZER;CN="'InBreath' Institut f%C3%BCr Atemtherapie und transformelles Wachstum":MAILTO:info@inbreath.org
END:VEVENT
BEGIN:VEVENT
DTSTART;TZID=Europe/Berlin:20260703T180000
DTEND;TZID=Europe/Berlin:20260705T160000
DTSTAMP:20260420T034639
CREATED:20241211T090324Z
LAST-MODIFIED:20251229T153749Z
UID:10000075-1783101600-1783267200@atemverein.de
SUMMARY:„Solarplexus Chakra“- Ich kreiere meine Welt…und was hält mich zurück?“
DESCRIPTION: \n\n\n\n\n\n\n\n„InBreath“ – “Life Mastery” Programm und Atemtraining 2026\n\n\n\n\n\n\n\n\n\n\n\n„Solarplexus Chakra“- Ich kreiere meine Welt…und was hält mich zurück?“\n\n\n\n\nWas genau will ich und was nicht? Mit wem…und wie…und wann? Wünsche\, Träume\, Realität. Geld\, Reichtum & Selbstverwirklichung. Welche Glaubenssätze und limitierende Programme halten mich zurück. Wie kreiere ich meine Realität? Klarheit und Schöpferkraft. Dies sind die Themen dieses Seminars. Wir lassen angstgesteuerten Materialismusfokus\, egoistische Rücksichtslosigkeit und Kontrollzwang los und finden mehr persönlichen Frieden\, innere Harmonie und Gelassenheit mit und in der Welt. Gemeinsam lösen wir mentale Blockaden\, nützen kreative Prozesse und bewusstes Kreieren um das zu schaffen was wir wirklich wollen. Mit 2 kraftvollen\, schöpferischen und reinigenden Atemsitzungen. \n\n\n\n\n\n \n\n\n\n\n\nWochenendablauf:Ankunft: Freitag Nachmittag / Abend (Anreise Auto oder Zug)Beginn: 19.00 Abendessen 20.00 kurze Intro Runde & AtmenSamstag: 10.00 – 19.00 Thema\, Prozesse\, AtemsitzungSonntag: 9.00 – 16.00 Thema\, Prozesse\, Atemsitzung \nVeranstaltungsort: Atemhaus Hubertushof\,Poppenberg 5\, 95505 Immenreuth (Nähe Bayreuth) \n\n\n\n\n\n\n\n\n\n\n\n 
URL:https://atemverein.de/event/sexualitaet-und-energiefluss-2-6-2-2/
LOCATION:Atemhaus Hubertushof\, Poppenberg 5\, Immenreuth\, 95505
CATEGORIES:Institut für Atemtherapie
ATTACH;FMTTYPE=image/png:https://atemverein.de/wp-content/uploads/2024/12/Solarplexus-Chakra.png
ORGANIZER;CN="'InBreath' Institut f%C3%BCr Atemtherapie und transformelles Wachstum":MAILTO:info@inbreath.org
END:VEVENT
BEGIN:VEVENT
DTSTART;TZID=Europe/Berlin:20260828T180000
DTEND;TZID=Europe/Berlin:20260830T160000
DTSTAMP:20260420T034639
CREATED:20241211T085934Z
LAST-MODIFIED:20251229T153946Z
UID:10000074-1787940000-1788105600@atemverein.de
SUMMARY:„Herz Chakra“ – Liebe \, Gemeinschaft\, Selbstliebe“
DESCRIPTION: \n\n\n\n\n\n\n\n„InBreath“ – “Life Mastery” Programm und Atemtraining 2026\n\n\n\n\n\n\n\n\n\n\n\n\n\n\n„Herz Chakra“ – Liebe \, Gemeinschaft\, Selbstliebe“\n\n\n\n\nUnser Herz ist unsere emotionale Mitte…unsere emotionaleIntelligenz! Das Gehirn denkt aber das Herz weiss…und will Dichführen…klar…und mutig. Allerdings hält dein Herz aber auch nochviele Schmerzen und Verletzungen aus deinem bisherigen Leben. Was noch unerlöst ist\, hindert Dich am Vollausdruck deines Lebens. Herz / Hirn Kohärenz\, Selbstannahme und ein gesundes Verhältnis mit dir selbst\, Verwundungen aus der Kindheit auflösen…und zerbrochene Herzen heilen sind Themen dieses Seminars. Trennungsempfinden\, Negativität\, Zweifel\, Unsicherheit und Depressionsgefühle werden losgelassen und mehr Zuversicht\, Optimismus\, Wärme und Fröhlichkeit kommen in dein Leben. Mit 2 heilsamen und erlösenden Atemsitzungen die der Reinigung deines Herzchakras dienen…denn es geht um Selbstliebe! \n\n\n\n\n\n \n\n\n\n\n\nWochenendablauf:Ankunft: Freitag Nachmittag / Abend (Anreise Auto oder Zug)Beginn: 19.00 Abendessen 20.00 kurze Intro Runde & AtmenSamstag: 10.00 – 19.00 Thema\, Prozesse\, AtemsitzungSonntag: 9.00 – 16.00 Thema\, Prozesse\, Atemsitzung \nVeranstaltungsort: Atemhaus Hubertushof\,Poppenberg 5\, 95505 Immenreuth (Nähe Bayreuth) \n\n\n\n\n\n\n\n\n\n\n\n\n\n\n \n\n\n\n\n\n\n\n\n\n\n\n\n\n 
URL:https://atemverein.de/event/sexualitaet-und-energiefluss-2-6-2/
LOCATION:Atemhaus Hubertushof\, Poppenberg 5\, Immenreuth\, 95505
CATEGORIES:Institut für Atemtherapie
ATTACH;FMTTYPE=image/png:https://atemverein.de/wp-content/uploads/2024/12/Herz-Chakra.png
ORGANIZER;CN="'InBreath' Institut f%C3%BCr Atemtherapie und transformelles Wachstum":MAILTO:info@inbreath.org
END:VEVENT
BEGIN:VEVENT
DTSTART;TZID=Europe/Berlin:20261002T180000
DTEND;TZID=Europe/Berlin:20261004T160000
DTSTAMP:20260420T034639
CREATED:20240505T150200Z
LAST-MODIFIED:20251229T154206Z
UID:10000011-1790964000-1791129600@atemverein.de
SUMMARY:„Kehlkopf Chakra“- Selbstausdruck\, Kommunikation und …meine Wahrheit sprechen“
DESCRIPTION:„InBreath“ – “Life Mastery” Programm und Atemtraining 2026\n„Kehlkopf Chakra“- Selbstausdruck\, Kommunikation und …meine Wahrheit sprechen“\n\n\n\n\nGemeinsam erforschen wir unsere Kommunikationsmuster. Kann ich sagen was ich will und meine Bedürfnisse ohne Angst äussern. Kann ich meine Grenzen setzten und halten. Kann ich klar und furchtlos meine Wahrheit sprechen…und werde ich gehört. In diesem Seminar dreht sich alles um Selbstausdruck und Kommunikation. Wir finden mehr Mut\, Klarheit und Selbstvertrauen zu uns selbst. Zu wissen wer man ist und was man will\, dies ohne Angst ausdrücken zu können und nicht von anderen überrollt oder zu deren Zwecken benützt zu werden\, bringt neue Lebensqualität. Mit 2 erlösenden Atemsitzungen die helfen deine Blockaden und Ängst loszulassen. \n\n\n\n\n\n \n\n\n\n\n\nWochenendablauf:Ankunft: Freitag Nachmittag / Abend (Anreise Auto oder Zug)Beginn: 19.00 Abendessen 20.00 kurze Intro Runde & AtmenSamstag: 10.00 – 19.00 Thema\, Prozesse\, AtemsitzungSonntag: 9.00 – 16.00 Thema\, Prozesse\, Atemsitzung \nVeranstaltungsort: Atemhaus Hubertushof\,Poppenberg 5\, 95505 Immenreuth (Nähe Bayreuth)
URL:https://atemverein.de/event/dein-innerer-mann-deine-innere-frau/
LOCATION:Atemhaus Hubertushof\, Poppenberg 5\, Immenreuth\, 95505
CATEGORIES:Atemschule,Institut für Atemtherapie
ATTACH;FMTTYPE=image/png:https://atemverein.de/wp-content/uploads/2024/05/Kehlkopf-Chakra-1.png
ORGANIZER;CN="'InBreath' Institut f%C3%BCr Atemtherapie und transformelles Wachstum":MAILTO:info@inbreath.org
END:VEVENT
BEGIN:VEVENT
DTSTART;TZID=Europe/Berlin:20261217T100000
DTEND;TZID=Europe/Berlin:20261220T160000
DTSTAMP:20260420T034639
CREATED:20240726T135840Z
LAST-MODIFIED:20251229T161525Z
UID:10000052-1797501600-1797782400@atemverein.de
SUMMARY:Intensivausbildung: Warmwasser - Geburt
DESCRIPTION:Warmwasser Atemtraining Modul 1 – 17. – 20 Dezember 2026\n\n\n\nWerde Warmwasser Trainer:in und begleite deine Klient:innen durch die wichtigen Prozesse der eigenen Geburt! \n\n\n\nDie pränatalen Erlebnisse\, sowie die Erlebnisse deiner eigenen Geburt bilden den Blueprint deines Lebens und sind Grundlage\, für all deine Prägungen und Verhaltensmuster. Sich immer wiederholende Herausforderungen und Lebensthemen können mit der wichtigen Arbeit des Warmwasser Trainings gelöst und transformiert werden. \n\n\n\nDieses Training ist nicht nur eine große Transformationsreise für dein eigenes Leben\, sondern auch lebensverändernd in der Arbeit mit deinen Klient:innen! \n\n\n\nDas Training beinhaltet eine wertvolle und fundierte Kombination aus Praxis und Theorie mit \n\n\n\n Atmen im Warmwasser Becken – Rebirthing \n\n\n\n Gerburtsprozesse und Begleitung der bewussten Atemarbeit im Trockenen \n\n\n\n umfangreiche Theorie über die Prägungen und Auswirkungen der pränatalen Erlebnisse und verschiedenen Geburtsarten auf das Leben \n\n\n\nKomm vorbei zum Einstiegsseminar unserer Warmwasser Trainer:in Ausbildung von 17. – 20 Dezember 2026 und mach dir selbst ein Bild von der tiefgehenden und bereichernden Arbeit mit der Geburt! \n\n\n\nDu kannst das erste Modul der Ausbildung nutzen als einzelne Erfahrung und Fortbildung\, oder direkt einsteigen in unsere drei teilige Ausbildung mit Abschluss Zertifikat des InBreath Instituts! \n\n\n\n\n\n\n\n\n\n\n\n\n\n\n\n\n\n 
URL:https://atemverein.de/event/intensivausbildung-warmwasser-geburt/
CATEGORIES:Institut für Atemtherapie
ATTACH;FMTTYPE=image/png:https://atemverein.de/wp-content/uploads/2024/05/14.png
ORGANIZER;CN="'InBreath' Institut f%C3%BCr Atemtherapie und transformelles Wachstum":MAILTO:info@inbreath.org
END:VEVENT
END:VCALENDAR