BEGIN:VCALENDAR
VERSION:2.0
PRODID:-//ATEMverein Deutschland e.V. - ECPv6.15.17//NONSGML v1.0//EN
CALSCALE:GREGORIAN
METHOD:PUBLISH
X-WR-CALNAME:ATEMverein Deutschland e.V.
X-ORIGINAL-URL:https://atemverein.de
X-WR-CALDESC:Veranstaltungen für ATEMverein Deutschland e.V.
REFRESH-INTERVAL;VALUE=DURATION:PT1H
X-Robots-Tag:noindex
X-PUBLISHED-TTL:PT1H
BEGIN:VTIMEZONE
TZID:Europe/Berlin
BEGIN:DAYLIGHT
TZOFFSETFROM:+0100
TZOFFSETTO:+0200
TZNAME:CEST
DTSTART:20240331T010000
END:DAYLIGHT
BEGIN:STANDARD
TZOFFSETFROM:+0200
TZOFFSETTO:+0100
TZNAME:CET
DTSTART:20241027T010000
END:STANDARD
BEGIN:DAYLIGHT
TZOFFSETFROM:+0100
TZOFFSETTO:+0200
TZNAME:CEST
DTSTART:20250330T010000
END:DAYLIGHT
BEGIN:STANDARD
TZOFFSETFROM:+0200
TZOFFSETTO:+0100
TZNAME:CET
DTSTART:20251026T010000
END:STANDARD
BEGIN:DAYLIGHT
TZOFFSETFROM:+0100
TZOFFSETTO:+0200
TZNAME:CEST
DTSTART:20260329T010000
END:DAYLIGHT
BEGIN:STANDARD
TZOFFSETFROM:+0200
TZOFFSETTO:+0100
TZNAME:CET
DTSTART:20261025T010000
END:STANDARD
BEGIN:DAYLIGHT
TZOFFSETFROM:+0100
TZOFFSETTO:+0200
TZNAME:CEST
DTSTART:20270328T010000
END:DAYLIGHT
BEGIN:STANDARD
TZOFFSETFROM:+0200
TZOFFSETTO:+0100
TZNAME:CET
DTSTART:20271031T010000
END:STANDARD
END:VTIMEZONE
BEGIN:VEVENT
DTSTART;TZID=Europe/Berlin:20260417T180000
DTEND;TZID=Europe/Berlin:20260419T160000
DTSTAMP:20260420T055349
CREATED:20241211T191018Z
LAST-MODIFIED:20251229T153341Z
UID:10000078-1776448800-1776614400@atemverein.de
SUMMARY:„Wurzel Chakra“ – Innere Erdung und Urvertrauen
DESCRIPTION:„InBreath“ – “Life Mastery” Programm und Atemtraining 2026\n„Wurzel Chakra“ – Innere Erdung und Urvertrauen\n\n\n\n\nWie war meine Geburt und wie bin ich aufgewachsen? Diese Fragen und Erlebnisse bestimmen unser Weltbild und unser natürliches Selbstverständnis. Im Wurzelchakra stecken die meisten unserer tiefsten Ängste. Es geht um Zugehörigkeit\, Selbstannahme und das Suchen nach dem eigenen Platz. Das Urvertrauen und fühle ich mich sicher in mir und meiner Welt?Gemeinsam reinigen und stärken wir unser Wurzelchakra. Dadurch gewinnen wir Klarheit und Kraft und finden neues Selbstverständnis. Wir entwickeln Zugehörigkeitsgefühl\, mehr Selbstbewusstsein und innere Stabilität. Mit 2 reinigenden und stärkenden Atemsitzungen.Neue Kraft und neue Klarheit! \n\n\n\n\n\n \n\n\n\n\n\nWochenendablauf:Ankunft: Freitag Nachmittag / Abend (Anreise Auto oder Zug)Beginn: 19.00 Abendessen 20.00 kurze Intro Runde & AtmenSamstag: 10.00 – 19.00 Thema\, Prozesse\, AtemsitzungSonntag: 9.00 – 16.00 Thema\, Prozesse\, Atemsitzung \nVeranstaltungsort: Atemhaus Hubertushof\,Poppenberg 5\, 95505 Immenreuth (Nähe Bayreuth) \n\n\n\n\n\n\n\n\n\n\n\n\n\n\n\n\n\n\n\n\n\n\n\n\n\n\n 
URL:https://atemverein.de/event/beziehungstraining-kommunikation-und-grenzen-setzen/
LOCATION:Atemhaus Hubertushof\, Poppenberg 5\, Immenreuth\, 95505
CATEGORIES:Atemschule,Institut für Atemtherapie
ATTACH;FMTTYPE=image/png:https://atemverein.de/wp-content/uploads/2024/12/Wurzel-Chakra.png
ORGANIZER;CN="'InBreath' Institut f%C3%BCr Atemtherapie und transformelles Wachstum":MAILTO:info@inbreath.org
END:VEVENT
BEGIN:VEVENT
DTSTART;TZID=Europe/Berlin:20260227T180000
DTEND;TZID=Europe/Berlin:20260301T160000
DTSTAMP:20260420T055349
CREATED:20241211T190259Z
LAST-MODIFIED:20251229T152208Z
UID:10000077-1772215200-1772380800@atemverein.de
SUMMARY:„Atem\, Klang und Energie“
DESCRIPTION: \n\n\n\n\n\n\n\n„InBreath“ – “Life Mastery” Programm und Atemtraining 2026\n\n\n\n\n\nAtem\, Klang und Energie\n\n\n\n\nAtem\, Klang und Energie sind die Bausteine des Universums. Sie pulsieren in uns und begleiten uns durch’s Leben. Zentral in unserem Leben\, schenken wir ihnen meistens jedoch wenig Beachtung. An diesem Wochenende erforschen wir Frequenzen und Klänge\, die unseren Energiekörper steuern und beeinflussen\, erleben die reinigende Kraft des bewusst Atemfluss und befreien unsere innere Lebendigkeit. Ein spannendes Wochenende für deine Energiekörperreinigung mit 2 geführten Atemsitzungen und toller Musikuntermalung. Geeignet für alle die Transformation in ihrem Leben möchten\, Atemneulinge\, sowie erfahrene „Atmer“. \n\n\n\n\n\n \n\n\n\n\n\nWochenendablauf:Ankunft: Freitag Nachmittag / Abend (Anreise Auto oder Zug)Beginn: 19.00 Abendessen 20.00 kurze Intro Runde & AtmenSamstag: 10.00 – 19.00 Thema\, Prozesse\, AtemsitzungSonntag: 9.00 – 16.00 Thema\, Prozesse\, Atemsitzung \nVeranstaltungsort: Atemhaus Hubertushof\,Poppenberg 5\, 95505 Immenreuth (Nähe Bayreuth) \n\n\n\n\n\n \n\n\n\n\n\n\n\n\n\n\n\n\n\n 
URL:https://atemverein.de/event/sexualitaet-und-energiefluss-2-6-2-2-2-2/
LOCATION:Atemhaus Hubertushof\, Poppenberg 5\, Immenreuth\, 95505
CATEGORIES:Institut für Atemtherapie
ATTACH;FMTTYPE=image/png:https://atemverein.de/wp-content/uploads/2024/12/Klan-und-Energie.png
ORGANIZER;CN="'InBreath' Institut f%C3%BCr Atemtherapie und transformelles Wachstum":MAILTO:info@inbreath.org
END:VEVENT
BEGIN:VEVENT
DTSTART;TZID=Europe/Berlin:20260130T180000
DTEND;TZID=Europe/Berlin:20260201T160000
DTSTAMP:20260420T055349
CREATED:20241211T191315Z
LAST-MODIFIED:20251229T151925Z
UID:10000079-1769796000-1769961600@atemverein.de
SUMMARY:Die Wunderbare Heilkraft des Atems
DESCRIPTION: \n\n\n\n\n\n\n\n„InBreath“ – “Life Mastery” Programm und Atemtraining 2026\nEinführung in die bewusste Atemarbeit (Atemtherapie) \nEin Wochenende mit Atemübungen und Körperarbeit sowie 2 integrativen Atemsitzungen mit toller Musikuntermalung. Stressabbau\, Blockaden lösen und frische Energie tanken sind unsere Ziele für diese Modul. Geeignet für alle die Transformation in ihrem Leben möchten\, Atemneulinge sowie erfahrene „Atmer”. \n \n  \n \n\n\n\n\n\n\n\n\n\n\n\n\n\n 
URL:https://atemverein.de/event/sexualitaet-und-energiefluss-2-6-2-2-2-3/
LOCATION:Atemhaus Hubertushof\, Poppenberg 5\, Immenreuth\, 95505
CATEGORIES:Institut für Atemtherapie
ATTACH;FMTTYPE=image/png:https://atemverein.de/wp-content/uploads/2024/12/Kraft-des-Atems.png
ORGANIZER;CN="'InBreath' Institut f%C3%BCr Atemtherapie und transformelles Wachstum":MAILTO:info@inbreath.org
END:VEVENT
BEGIN:VEVENT
DTSTART;TZID=Europe/Berlin:20250516T180000
DTEND;TZID=Europe/Berlin:20250518T160000
DTSTAMP:20260420T055349
CREATED:20240517T151430Z
LAST-MODIFIED:20241211T084252Z
UID:10000013-1747418400-1747584000@atemverein.de
SUMMARY:Emotional Detox - Stress und Ängste loslassen
DESCRIPTION:„InBreath“ – “Life Mastery” Programm und Atemtraining 2025 \n\n\n\nViele unserer Emotionen sind automatisch und unterdrückt oder unkontrolliert eruptiv. In diesem Seminar finden wir einfache Lösungen uns zu befreien und Vergangenes zu integrieren. \n\n\n\nAutomatismen der EmotionenBruch mit der chemischen AbhängigkeitÜbungen und ProzessarbeitEndorphin Therapie \n\n\n\nChemie der Emotionen und die Moleküle der Gefühle
URL:https://atemverein.de/event/sexualitaet-und-energiefluss/
CATEGORIES:Institut für Atemtherapie
ATTACH;FMTTYPE=image/png:https://atemverein.de/wp-content/uploads/2024/05/3-1.png
ORGANIZER;CN="'InBreath' Institut f%C3%BCr Atemtherapie und transformelles Wachstum":MAILTO:info@inbreath.org
END:VEVENT
BEGIN:VEVENT
DTSTART;TZID=Europe/Berlin:20250418T180000
DTEND;TZID=Europe/Berlin:20250420T160000
DTSTAMP:20260420T055349
CREATED:20240517T151722Z
LAST-MODIFIED:20241211T192256Z
UID:10000014-1744999200-1745164800@atemverein.de
SUMMARY:Physical Detox - die Kunst des bewussten Loslassens
DESCRIPTION:„InBreath“ – “Life Mastery” Programm und Atemtraining 2025\n\n\n\nDer Körper speichert unser Unterbewusstsein und hält alle unsere unerlösten Energien. Geduldig wartet er darauf sie endlich loszulassen und zu verarbeiten um psychosomatische Störungen zu vermeiden. Gemeinsam nutzen wir verschiedene Formen der Körperarbeit und den bewussten Atem um Körper und Unterbewusstsein zu reinigen und zu befreien. Stress und Altes wird losgelassen und unsere Gesundheit unterstützt. Mit 2 Gruppenatemsitzungen.
URL:https://atemverein.de/event/sexualitaet-und-energiefluss-2/
LOCATION:Atemhaus Hubertushof\, Poppenberg 5\, Immenreuth\, 95505
CATEGORIES:Institut für Atemtherapie
ATTACH;FMTTYPE=image/png:https://atemverein.de/wp-content/uploads/2024/05/1.png
ORGANIZER;CN="'InBreath' Institut f%C3%BCr Atemtherapie und transformelles Wachstum":MAILTO:info@inbreath.org
END:VEVENT
BEGIN:VEVENT
DTSTART;TZID=Europe/Berlin:20250321T180000
DTEND;TZID=Europe/Berlin:20250323T160000
DTSTAMP:20260420T055349
CREATED:20240517T152925Z
LAST-MODIFIED:20241211T084555Z
UID:10000018-1742580000-1742745600@atemverein.de
SUMMARY:Atem\, Klang und Energie
DESCRIPTION:„InBreath“ – “Life Mastery” Programm und Atemtraining 2025\n\n\n\nAtemtherapie – der Weg zur inneren Befreiung (Einführung II) \n\n\n\nAtem\, Klang und Energie sind die Bausteine des Universums. Sie pulsieren in uns und begleiten uns durch’s Leben. Zentral in unserem Leben\, schenken wir ihnen meistens jedoch wenig Beachtung. In diesem Wochenende erforschen wir\, Frequenzen und Klänge die unseren Energiekörper steuern und beeinflussen\, erleben die reinigende Kraft des bewusst Atemfluss und befreien unsere innere Lebendigkeit. Ein spannendes Wochenende für deine Energiekörperreinigung mit 2 geführten Atemsitzungen mit toller Musikuntermalung. Geeignet für alle die Transformation in ihrem Leben möchten\, Atemneulinge sowie erfahrene „Atmer“
URL:https://atemverein.de/event/sexualitaet-und-energiefluss-2-2/
LOCATION:Atemhaus Hubertushof\, Poppenberg 5\, Immenreuth\, 95505
CATEGORIES:Institut für Atemtherapie
ATTACH;FMTTYPE=image/png:https://atemverein.de/wp-content/uploads/2024/05/11-1.png
ORGANIZER;CN="'InBreath' Institut f%C3%BCr Atemtherapie und transformelles Wachstum":MAILTO:info@inbreath.org
END:VEVENT
BEGIN:VEVENT
DTSTART;TZID=Europe/Berlin:20250314T100000
DTEND;TZID=Europe/Berlin:20250316T160000
DTSTAMP:20260420T055349
CREATED:20240517T153706Z
LAST-MODIFIED:20241211T082841Z
UID:10000021-1741946400-1742140800@atemverein.de
SUMMARY:Voice Dialogue Facilitator Intensiv Training
DESCRIPTION:„InBreath“ – Voice Dialogue – Einführung mit Selbsterfahrung (Offen für Alle und interessant für Jedermann) \n\n\n\nModul 1 (ingesamt 3 Module) \n\n\n\n1.) Theorie und praktische Arbeit mit den Primärstimmen – den Hauptpersönlichkeitsanteilen die das ausführende Ego kreieren. (“Primary Selves” und Presenting Persona) 2.) Theorie und praktische Arbeit mit verborgenen Persönlichkeits- anteilen und einigen deiner Schattenanteilen (“Secondary Selves“)
URL:https://atemverein.de/event/sexualitaet-und-energiefluss-2-4/
CATEGORIES:Institut für Atemtherapie
ATTACH;FMTTYPE=image/png:https://atemverein.de/wp-content/uploads/2024/05/13.png
ORGANIZER;CN="'InBreath' Institut f%C3%BCr Atemtherapie und transformelles Wachstum":MAILTO:info@inbreath.org
END:VEVENT
BEGIN:VEVENT
DTSTART;TZID=Europe/Berlin:20250131T180000
DTEND;TZID=Europe/Berlin:20250202T160000
DTSTAMP:20260420T055349
CREATED:20240517T171536Z
LAST-MODIFIED:20241211T084346Z
UID:10000073-1738346400-1738512000@atemverein.de
SUMMARY:Die Wunderbare Heilkraft des Atems
DESCRIPTION:„InBreath“ – “Life Mastery” Programm und Atemtraining 2025\n\n\n\nEinführung in die bewusste Atemarbeit (Atemtherapie) \n\n\n\nEin Wochenende mit Atemübungen und Körperarbeit sowie 2 integrativen Atemsitzungen mit toller Musikuntermalung. Stressabbau\, Blockaden lösen und frische Energie tanken sind unsere Ziele für diese Modul. Geeignet für alle die Transformation in ihrem Leben möchten\, Atemneulinge sowie erfahrene „Atmer”.
URL:https://atemverein.de/event/sexualitaet-und-energiefluss-2-6/
LOCATION:Atemhaus Hubertushof\, Poppenberg 5\, Immenreuth\, 95505
CATEGORIES:Institut für Atemtherapie
ATTACH;FMTTYPE=image/png:https://atemverein.de/wp-content/uploads/2024/05/12.png
ORGANIZER;CN="'InBreath' Institut f%C3%BCr Atemtherapie und transformelles Wachstum":MAILTO:info@inbreath.org
END:VEVENT
END:VCALENDAR