BEGIN:VCALENDAR
VERSION:2.0
PRODID:-//ATEMverein Deutschland e.V. - ECPv6.15.17//NONSGML v1.0//EN
CALSCALE:GREGORIAN
METHOD:PUBLISH
X-ORIGINAL-URL:https://atemverein.de
X-WR-CALDESC:Veranstaltungen für ATEMverein Deutschland e.V.
REFRESH-INTERVAL;VALUE=DURATION:PT1H
X-Robots-Tag:noindex
X-PUBLISHED-TTL:PT1H
BEGIN:VTIMEZONE
TZID:Europe/Berlin
BEGIN:DAYLIGHT
TZOFFSETFROM:+0100
TZOFFSETTO:+0200
TZNAME:CEST
DTSTART:20250330T010000
END:DAYLIGHT
BEGIN:STANDARD
TZOFFSETFROM:+0200
TZOFFSETTO:+0100
TZNAME:CET
DTSTART:20251026T010000
END:STANDARD
BEGIN:DAYLIGHT
TZOFFSETFROM:+0100
TZOFFSETTO:+0200
TZNAME:CEST
DTSTART:20260329T010000
END:DAYLIGHT
BEGIN:STANDARD
TZOFFSETFROM:+0200
TZOFFSETTO:+0100
TZNAME:CET
DTSTART:20261025T010000
END:STANDARD
BEGIN:DAYLIGHT
TZOFFSETFROM:+0100
TZOFFSETTO:+0200
TZNAME:CEST
DTSTART:20270328T010000
END:DAYLIGHT
BEGIN:STANDARD
TZOFFSETFROM:+0200
TZOFFSETTO:+0100
TZNAME:CET
DTSTART:20271031T010000
END:STANDARD
END:VTIMEZONE
BEGIN:VEVENT
DTSTART;TZID=Europe/Berlin:20260227T180000
DTEND;TZID=Europe/Berlin:20260301T160000
DTSTAMP:20260424T020425
CREATED:20241211T190259Z
LAST-MODIFIED:20251229T152208Z
UID:10000077-1772215200-1772380800@atemverein.de
SUMMARY:„Atem\, Klang und Energie“
DESCRIPTION: \n\n\n\n\n\n\n\n„InBreath“ – “Life Mastery” Programm und Atemtraining 2026\n\n\n\n\n\nAtem\, Klang und Energie\n\n\n\n\nAtem\, Klang und Energie sind die Bausteine des Universums. Sie pulsieren in uns und begleiten uns durch’s Leben. Zentral in unserem Leben\, schenken wir ihnen meistens jedoch wenig Beachtung. An diesem Wochenende erforschen wir Frequenzen und Klänge\, die unseren Energiekörper steuern und beeinflussen\, erleben die reinigende Kraft des bewusst Atemfluss und befreien unsere innere Lebendigkeit. Ein spannendes Wochenende für deine Energiekörperreinigung mit 2 geführten Atemsitzungen und toller Musikuntermalung. Geeignet für alle die Transformation in ihrem Leben möchten\, Atemneulinge\, sowie erfahrene „Atmer“. \n\n\n\n\n\n \n\n\n\n\n\nWochenendablauf:Ankunft: Freitag Nachmittag / Abend (Anreise Auto oder Zug)Beginn: 19.00 Abendessen 20.00 kurze Intro Runde & AtmenSamstag: 10.00 – 19.00 Thema\, Prozesse\, AtemsitzungSonntag: 9.00 – 16.00 Thema\, Prozesse\, Atemsitzung \nVeranstaltungsort: Atemhaus Hubertushof\,Poppenberg 5\, 95505 Immenreuth (Nähe Bayreuth) \n\n\n\n\n\n \n\n\n\n\n\n\n\n\n\n\n\n\n\n 
URL:https://atemverein.de/event/sexualitaet-und-energiefluss-2-6-2-2-2-2/
LOCATION:Atemhaus Hubertushof\, Poppenberg 5\, Immenreuth\, 95505
CATEGORIES:Institut für Atemtherapie
ATTACH;FMTTYPE=image/png:https://atemverein.de/wp-content/uploads/2024/12/Klan-und-Energie.png
ORGANIZER;CN="'InBreath' Institut f%C3%BCr Atemtherapie und transformelles Wachstum":MAILTO:info@inbreath.org
END:VEVENT
BEGIN:VEVENT
DTSTART;TZID=Europe/Berlin:20260303T200000
DTEND;TZID=Europe/Berlin:20260303T211500
DTSTAMP:20260424T020425
CREATED:20260122T173605Z
LAST-MODIFIED:20260227T073111Z
UID:10000118-1772568000-1772572500@atemverein.de
SUMMARY:ATEMnetzwerk Online im März: "Traumerforschung in der Atemtherapie." mit Dr. Wilfried Ehrmann
DESCRIPTION:ATEMnetzwerk Online | Dienstag\, 03. März 2026 | 20:00 UhrDr. Wilfried Ehrmann – „Traumerforschung in der Atemtherapie.“ \nTräume sind wichtige Quellen für die Selbsterforschung und öffnen Zugänge zum Unbewussten. Die Atemarbeit bietet spezielle Möglichkeiten für das Erschließen von Träumen. \nWir können in der Atemarbeit die folgenden Ebenen der Traumerforschung berücksichtigen: \n\nAktuelles Geschehen\nKindheit\nPränatale Aspekte\nTransgenerational\nArchetypen\nHöheres Selbst – Spiritualität\n\nBeim Vortrag werden die praktischen Möglichkeiten erörtert\, wie der Atem Klienten bei der Bearbeitung von Träumen helfen kann. \n  \nDr. Wilfried Ehrmann \nPsychotherapeut\, Atemtrainer\, Ausbildungsleiter beim Verein ATMAN (Integrative Atemtherapie) \nBuch- und Blogautor: Handbuch der Atemtherapie\, Vom Mut zu wachsen\, Kohärentes Atmen\, Kohärentes Atmen – Übungsbuch\, Vierzig Tore der Weisheit\, Die Scham – das geheimnisvolle Gefühl\, Scham und Würde\, Sowie viele Fachartikel zum Thema Atmen. \nEgal\, ob du aus der Atemarbeit kommst oder einfach neugierig bist: dieser Abend lädt dich ein\, Bewegung und Atem neu zu erfahren. \n📅 Wann: Dienstag\, 03.03.2026 | 20:00 Uhr📍 Wo: Online via Zoom (Anmeldung über unsere Website)💰 Teilnahme: kostenfrei – Spenden willkommen📹 Aufzeichnung: später auf unserem YouTube-Kanal verfügbar \n  \n\n\n\n\n\n 
URL:https://atemverein.de/event/atemnetzwerk-online-im-maerz-2/
LOCATION:Online via Zoom
CATEGORIES:ATEMnetzwerk Online
ATTACH;FMTTYPE=image/png:https://atemverein.de/wp-content/uploads/2026/01/ATEMnetzwerk-Online-1.png
END:VEVENT
BEGIN:VEVENT
DTSTART;TZID=Europe/Berlin:20260306T100000
DTEND;TZID=Europe/Berlin:20260308T160000
DTSTAMP:20260424T020425
CREATED:20251229T161043Z
LAST-MODIFIED:20251229T161043Z
UID:10000115-1772791200-1772985600@atemverein.de
SUMMARY:Voice Dialogue Seminar und Intensiv Ausbildung
DESCRIPTION:Modul 1 \nVoice Dialogue – Einführung mit Selbsterfahrung (Offen für Alle und interessant für Jedermann) \n1.) Theorie und praktische Arbeit mit den Primärstimmen – den Hauptpersönlichkeitsanteilen die das ausführende Ego kreieren. (“Primary Selves” und Presenting Persona) \n2.) Theorie und praktische Arbeit mit verborgenen Persönlichkeits- anteilen und einigen deiner Schattenanteilen (“Secondary Selves“) \nVeranstaltungsort: Atemhaus Hubertushof\,\nPoppenberg 5\, 95505 Immenreuth (Nähe Bayreuth)
URL:https://atemverein.de/event/atem-embodiment-im-advent-liebe-verbundenheit-mitgefuehl-2-2-3/
CATEGORIES:Allgemein,Institut für Atemtherapie
ATTACH;FMTTYPE=image/png:https://atemverein.de/wp-content/uploads/2024/05/13.png
END:VEVENT
BEGIN:VEVENT
DTSTART;TZID=Europe/Berlin:20260306T180000
DTEND;TZID=Europe/Berlin:20260308T140000
DTSTAMP:20260424T020425
CREATED:20251210T081851Z
LAST-MODIFIED:20251230T115006Z
UID:10000111-1772820000-1772978400@atemverein.de
SUMMARY:Liebe? Voll! – Mit Atem und Bewusstheit die Beziehung lebendig halten
DESCRIPTION:Atemtherapie-Wochenende für Paare mit Anja Klaus (Integrative Atemtherapeutin\, Heilpraktikerin für Psychotherapie) und Knut Salomon (Integrativer Atemtherapeut\, Coach) \nVerbundenheit\, Intimität\, Nähe\, Freude und Lebendigkeit – wer wünscht sich das nicht für seine Beziehung\, auch auf lange Sicht? Das ist in der Regel einfacher als man denkt\, wenn Bewusstsein\, Verständnis und Mitgefühl für die eigenen Denk- und Handlungsweisen und für die des Gegenübers mit ins Spiel kommen. \nDieses Wochenend-Seminar lädt Euch genau dazu ein: gemeinsam erfahrt und erlebt Ihr\, wie nah und innig Beziehung sein und bleiben kann\, wenn man sein Gegenüber (und auch sich selbst) sowie die eigenen Verhaltens- und Liebesweisen einmal aus anderen Augen betrachtet\, wie man gemeinsam spielerisch neue Wege entdeckt\, um hinderliche Muster bewusst aufzulösen und wieviel Freude und Leichtigkeit entstehen\, wenn beide sich miteinander weiterentwickeln. \nTermin: 6. März 2026 18 Uhr bis 8. März 2026\, 14 Uhr \nwww.anjaklaus.de \nOrt: \nSeminarhaus Dorfschule Hesseln\, Dorfstraße. 40\, 53562 Leubsdorf \nInfo und Anmeldung: https://www.anjaklaus.de/paarseminare-workshops-atemtherapie-duesseldorf-2/
URL:https://atemverein.de/event/liebe-voll-mit-atem-und-bewusstheit-die-beziehung-lebendig-halten/
ATTACH;FMTTYPE=image/jpeg:https://atemverein.de/wp-content/uploads/2025/12/couple-5367555_1920.jpeg
END:VEVENT
BEGIN:VEVENT
DTSTART;TZID=Europe/Berlin:20260314T110000
DTEND;TZID=Europe/Berlin:20260314T163000
DTSTAMP:20260424T020425
CREATED:20260208T105835Z
LAST-MODIFIED:20260210T161851Z
UID:10000121-1773486000-1773505800@atemverein.de
SUMMARY:KLIMAKTERIUM - IM WECHSEL DER HORMONE
DESCRIPTION:KLIMAKTERIUM – IM WECHSEL DER HORMONE\n \nAtemzentrierte Körper- und Bewegungsarbeit nach der Lehre „Der bewusste zugelassene Atem“ \nMit einfachen Übungen lernen wir unseren eigenen Körper und Atem besser kenne.\nÜber die bewusste\, achtsame Bewegung\, die vom Atem begleitet wird\, nähern wir uns einer natürlichen\, selbstverständlichen und damit gesunden Atmung. \nIm Mittelpunkt dieses Kurses steht der Umgang mit den Wechseljahren.\n \nAls Einstieg in die Atemarbeit bildet dieser Kurs ein gutes Fundament für fortlaufende Kurse.\nFortgeschrittene können Ihre Atemerfahrungen vertiefen. Neugierige können einen Einblick erhalten.\n \nKURSFORMAT: Präsenzkurs am Samstag\n \nVERANSTALTER:\nHeike Harder – Atempause in Hamburg\nwww.atempause-in-hamburg.de\n \nVERANSTALTUNGSORT: im Hamburger Schanzenviertel\n \nZEIT: 11.00 – 16.30h\n \nDATUM: 14.03.26\n \nKOSTEN: 100€      https://www.atempause-in-hamburg.de/willkommen/kurse-seminare/ \nANMELDUNG ist vorab erforderlich – bitte mindestens 1 Woche im voraus bei Heike Harder:\nhhharder@gmx.de\n0163/477 90 94
URL:https://atemverein.de/event/klimakterium-im-wechsel-der-hormone/
END:VEVENT
END:VCALENDAR