BEGIN:VCALENDAR
VERSION:2.0
PRODID:-//ATEMverein Deutschland e.V. - ECPv6.15.17//NONSGML v1.0//EN
CALSCALE:GREGORIAN
METHOD:PUBLISH
X-ORIGINAL-URL:https://atemverein.de
X-WR-CALDESC:Veranstaltungen für ATEMverein Deutschland e.V.
REFRESH-INTERVAL;VALUE=DURATION:PT1H
X-Robots-Tag:noindex
X-PUBLISHED-TTL:PT1H
BEGIN:VTIMEZONE
TZID:Europe/Berlin
BEGIN:DAYLIGHT
TZOFFSETFROM:+0100
TZOFFSETTO:+0200
TZNAME:CEST
DTSTART:20250330T010000
END:DAYLIGHT
BEGIN:STANDARD
TZOFFSETFROM:+0200
TZOFFSETTO:+0100
TZNAME:CET
DTSTART:20251026T010000
END:STANDARD
BEGIN:DAYLIGHT
TZOFFSETFROM:+0100
TZOFFSETTO:+0200
TZNAME:CEST
DTSTART:20260329T010000
END:DAYLIGHT
BEGIN:STANDARD
TZOFFSETFROM:+0200
TZOFFSETTO:+0100
TZNAME:CET
DTSTART:20261025T010000
END:STANDARD
BEGIN:DAYLIGHT
TZOFFSETFROM:+0100
TZOFFSETTO:+0200
TZNAME:CEST
DTSTART:20270328T010000
END:DAYLIGHT
BEGIN:STANDARD
TZOFFSETFROM:+0200
TZOFFSETTO:+0100
TZNAME:CET
DTSTART:20271031T010000
END:STANDARD
END:VTIMEZONE
BEGIN:VEVENT
DTSTART;TZID=Europe/Berlin:20260116T100000
DTEND;TZID=Europe/Berlin:20260116T140000
DTSTAMP:20260424T050932
CREATED:20250831T101629Z
LAST-MODIFIED:20251107T095601Z
UID:10000102-1768557600-1768572000@atemverein.de
SUMMARY:Atemtage für Atemtherapeut:innen
DESCRIPTION:Supervision\, Selbstfürsorge\, persönliche Weiterentwicklung: Die Atemtage bieten ausgebildeten Atemtherapeut:innen einen geschützten Rahmen\, um persönliche Themen oder solche\, die im Praxisalltag aufgetreten sind\, zu klären und den eigenen Entwicklungsprozess in kollegialer Verbindung und Gemeinschaft fortzusetzen. \n  \nJede/r Teilnehmer:in erhält eine individuelle 1:1-Prozessbegleitung in Form des „Sharings“; wir beginnen und enden mit einer gemeinsamen Atemrunde. \n  \nAnja Klaus ist seit mehr als 10 Jahren als Heilpraktikerin (Psychotherapie) und Integrative Atemtherapeutin in eigener Praxis tätig. Seit 6 Jahren führt sie regelmäßig Supervisionen für Kolleginnen und Kollegen durch. \n  \nMehr Infos: https://www.anjaklaus.de/atemtage-fuer-atemtherapeutinnen/ \nDatum: 16. Januar 2026 \nZeit: 10 – 14 Uhr \nOrt: \nPraxis für Integrative Atemtherapie \nRoseggerstr. 47 \n40470 Düsseldorf
URL:https://atemverein.de/event/atemtage-fuer-atemtherapeutinnen-2/
LOCATION:Praxis für Integrative Atemtherapie\, Roseggerstr. 47\, 40470 Düsseldorf\, 40470
ATTACH;FMTTYPE=image/jpeg:https://atemverein.de/wp-content/uploads/2025/08/20240824_DSC03206.jpeg
END:VEVENT
BEGIN:VEVENT
DTSTART;VALUE=DATE:20260123
DTEND;VALUE=DATE:20260126
DTSTAMP:20260424T050932
CREATED:20251107T095918Z
LAST-MODIFIED:20251107T095918Z
UID:10000110-1769126400-1769385599@atemverein.de
SUMMARY:AUSBILDUNG IN INTEGRATIVER ATEMTHERAPIE SCHNUPPER-TRAINING 23.-25.01.2026
DESCRIPTION:AUSBILDUNG IN INTEGRATIVER ATEMTHERAPIE \nSCHNUPPER-TRAINING 23.-25.01.2026 \nErfahre dich selbst\, investiere in dein Bewusstsein und lege den Grundstein für eine Ausbildung in integrativer Atemtherapie und somatischer Psychotherapie. Es handelt sich bei diesem Schnupper-Training um das erste Ausbildungs-Wochenende des ersten Moduls und hier bekommst du einen guten Eindruck von der Gruppe und den Trainer:innen\, sowie von Energie\, Inhalten und Ablauf des Trainings. \nhttps://bodymindbreath.de/kurse/schnupper-training.html \nWebsite: www.bodymindbreath.de \nKontakt: judith@bodymindbreath.de
URL:https://atemverein.de/event/ausbildung-in-integrativer-atemtherapie-schnupper-training-23-25-01-2026/
ATTACH;FMTTYPE=image/jpeg:https://atemverein.de/wp-content/uploads/2025/11/Body_Mind_breath_2023_by_Anne-Caspar-42-scaled.jpg
END:VEVENT
BEGIN:VEVENT
DTSTART;TZID=Europe/Berlin:20260130T180000
DTEND;TZID=Europe/Berlin:20260201T160000
DTSTAMP:20260424T050932
CREATED:20241211T191315Z
LAST-MODIFIED:20251229T151925Z
UID:10000079-1769796000-1769961600@atemverein.de
SUMMARY:Die Wunderbare Heilkraft des Atems
DESCRIPTION: \n\n\n\n\n\n\n\n„InBreath“ – “Life Mastery” Programm und Atemtraining 2026\nEinführung in die bewusste Atemarbeit (Atemtherapie) \nEin Wochenende mit Atemübungen und Körperarbeit sowie 2 integrativen Atemsitzungen mit toller Musikuntermalung. Stressabbau\, Blockaden lösen und frische Energie tanken sind unsere Ziele für diese Modul. Geeignet für alle die Transformation in ihrem Leben möchten\, Atemneulinge sowie erfahrene „Atmer”. \n \n  \n \n\n\n\n\n\n\n\n\n\n\n\n\n\n 
URL:https://atemverein.de/event/sexualitaet-und-energiefluss-2-6-2-2-2-3/
LOCATION:Atemhaus Hubertushof\, Poppenberg 5\, Immenreuth\, 95505
CATEGORIES:Institut für Atemtherapie
ATTACH;FMTTYPE=image/png:https://atemverein.de/wp-content/uploads/2024/12/Kraft-des-Atems.png
ORGANIZER;CN="'InBreath' Institut f%C3%BCr Atemtherapie und transformelles Wachstum":MAILTO:info@inbreath.org
END:VEVENT
END:VCALENDAR