BEGIN:VCALENDAR
VERSION:2.0
PRODID:-//ATEMverein Deutschland e.V. - ECPv6.15.17//NONSGML v1.0//EN
CALSCALE:GREGORIAN
METHOD:PUBLISH
X-WR-CALNAME:ATEMverein Deutschland e.V.
X-ORIGINAL-URL:https://atemverein.de
X-WR-CALDESC:Veranstaltungen für ATEMverein Deutschland e.V.
REFRESH-INTERVAL;VALUE=DURATION:PT1H
X-Robots-Tag:noindex
X-PUBLISHED-TTL:PT1H
BEGIN:VTIMEZONE
TZID:Europe/Berlin
BEGIN:DAYLIGHT
TZOFFSETFROM:+0100
TZOFFSETTO:+0200
TZNAME:CEST
DTSTART:20240331T010000
END:DAYLIGHT
BEGIN:STANDARD
TZOFFSETFROM:+0200
TZOFFSETTO:+0100
TZNAME:CET
DTSTART:20241027T010000
END:STANDARD
BEGIN:DAYLIGHT
TZOFFSETFROM:+0100
TZOFFSETTO:+0200
TZNAME:CEST
DTSTART:20250330T010000
END:DAYLIGHT
BEGIN:STANDARD
TZOFFSETFROM:+0200
TZOFFSETTO:+0100
TZNAME:CET
DTSTART:20251026T010000
END:STANDARD
BEGIN:DAYLIGHT
TZOFFSETFROM:+0100
TZOFFSETTO:+0200
TZNAME:CEST
DTSTART:20260329T010000
END:DAYLIGHT
BEGIN:STANDARD
TZOFFSETFROM:+0200
TZOFFSETTO:+0100
TZNAME:CET
DTSTART:20261025T010000
END:STANDARD
END:VTIMEZONE
BEGIN:VEVENT
DTSTART;TZID=Europe/Berlin:20251003T100000
DTEND;TZID=Europe/Berlin:20251005T170000
DTSTAMP:20260424T091223
CREATED:20250122T135257Z
LAST-MODIFIED:20250128T142538Z
UID:10000091-1759485600-1759683600@atemverein.de
SUMMARY:Breathwork Wochenende Deep Dive Selbsterfahrung
DESCRIPTION:  \n\n\n\n  \n\n\n\n\n\n\n\n\n\n\n\nIntensives Selbsterfahrungs-Wochenende\, bei dem Du Dich und die Menschen im Raum in Verbundenheit mit dem großen Ganzen durch die Breathwork Sessions und andere Übungen wahrnehmen kannst. \n\n\n\nTermin: 03.10. – 05.10.25 in Köln \n\n\n\nFreitags von 18:00 bis 20:00 Uhr \n\n\n\nSamstags/Sonntags von 10:00 bis 17:00 Uhr \n\n\n\nOrt: Bodhi Studio in 50933 Köln Braunsfeld\, Aachener Straße 326-328 \n\n\n\nKosten: 399\,00 (incl. MwSt) \n\n\n\nBuchung über kontakt@trancevisionyoga.de \n\n\n\nInhalt: \n\n\n\nAn diesem Wochenende lernen wir uns Freitags mit kleinen Übungen besser kennen und bereiten uns auf die kommenden Tage vor. Am Samstag und Sonntag Vormittags befassen wir uns neben theoretischen Inhalten auch mit « Body and Breath Preparation » und am Nachmittag\, nach einer Mittagspause\, erlebst Du\, ähnlich wie beim holotropen Atmen\, eine intensive Session\, bei der dich eine andere Person als « Atem Sitter» begleitet. Jeder Teilnehmende erhält die Gelegenheit an je einer Atemsitzung als Erfahrende und als Begleiter teilzunehmen. Eine Entspannungsphase mit einer « Body Integration » Meditation hilft Dir das Erlebte zu integrieren. Die Integration des Erlebten werden wir an diesem Wochenende intensiver\, u.a. mit Soundhealing und gemeinsamen Malen\, unterstützen. \n\n\n\nIn einem geschützten Raum wirst Du mit Achtsamkeit begleitet\, so dass Du in der Lage bist\, Dich auf das einzulassen\, was Dein Unterbewusstsein zeigen möchte. Du kannst Dich\, auf einer Reise durch Emotionen\, in einer Einheitserfahrung oder mit psychedelischen Bildern\, vielschichtig erfahren. Jeden Tag schließen wir mit einem Erfahrungsaustausch (Sharing) sowie einer Q+A Runde ab. \n\n\n\nZielgruppe: \n\n\n\nAlle\, die bereits erste Erfahrungen mit bewusster Atmung\, Breathwork oder Pranayama gemacht haben und intensiv weiter in die eigene Praxis eintauchen möchten. \n\n\n\nKontraindikationen: \n\n\n\nSchwangerschaft\, Bluthochdruck\, Herzkrankheiten\, Erkrankungen der Lunge oder Bauchorgane\, Hernien\, Epilepsie\, Psychosen\, Netzhauterkrankungen\, Glaukom\, Asthma\, Bronchitis\, Tuberkulose sprechen grundsätzlich\, aber nicht immer\, gegen eine Teilnahme. Bei Unsicherheit bitte vorher mit einem Arzt abklären und Kontakt mit uns aufnehmen. \n\n\n\nMehr Informationen zu Michaela und Jörg Buneru www.trancevisionbreath.de \n\n\n\n\n\n\n\n\n\n\n\n\n\n\n\n 
URL:https://atemverein.de/event/breathwork-wochenende-deep-dive-selbsterfahrung/
ATTACH;FMTTYPE=image/jpeg:https://atemverein.de/wp-content/uploads/2025/01/The-Bunerus-by-Ingo-Bollhoefer-LowRes-5000.jpg
END:VEVENT
BEGIN:VEVENT
DTSTART;TZID=Europe/Berlin:20251005T093000
DTEND;TZID=Europe/Berlin:20251005T110000
DTSTAMP:20260424T091223
CREATED:20250914T073124Z
LAST-MODIFIED:20250914T073657Z
UID:10000107-1759656600-1759662000@atemverein.de
SUMMARY:Soma Breath® Experience – monatliche Session (online)
DESCRIPTION:Soma Breath® Experience – monatliche Session (online) \nTauche ein in eine geführte Soma Breath Atemreise mit Sonni und Silke – eine einzigartige Kombination aus rhythmischer Atmung\, Musik und Meditation. Erlebe\, wie Du mit Deiner Atmung in einen tiefen Zustand von Klarheit\, Energie und innerer Balance kommst. \nDiese Atemmeditation ist perfekt für Dich\, wenn Du\n👉 Stress loslassen und Dein Nervensystem regulieren möchtest\,\n👉 Zugang zu tieferer Intuition und Kreativität suchst\,\n👉 oder Dein Bewusstsein auf eine neue Ebene bringen willst. \nDatum:           05.10. und jeden ersten Sonntag im Monat\nUhrzeit:          9:30 – 11:00 Uhr\nOrt:                Online via Zoom\nLINK:              https://myablefy.com/s/breathq/soma-breathwork-experience-with-sonni \nKosten:          EUR 49\,- \nKontakt:         info@breathq.academy\nTelefon:         +49 152 29604899
URL:https://atemverein.de/event/soma-breath-experience-monatliche-session-online-2/
ATTACH;FMTTYPE=image/png:https://atemverein.de/wp-content/uploads/2025/09/Leitmotiv_SomaBreathExperience_Atemverein-scaled.png
END:VEVENT
BEGIN:VEVENT
DTSTART;TZID=Europe/Berlin:20251007T200000
DTEND;TZID=Europe/Berlin:20251007T211500
DTSTAMP:20260424T091223
CREATED:20250914T081520Z
LAST-MODIFIED:20250914T082012Z
UID:10000108-1759867200-1759871700@atemverein.de
SUMMARY:ATEMnetzwerk Online im Oktober: Tanztherapie meets Atemtherapie mit Julika Anna Bakos
DESCRIPTION:ATEMnetzwerk Online | Dienstag\, 07. Oktober 2025 | 20:00 UhrThema: Tanztherapie meets Atemtherapie – Wege über den Körper zum eigenen Selbst \nZwei Wege – ein Ziel: über den Körper in Kontakt mit sich selbst kommen.In dieser Ausgabe von ATEMnetzwerk Online erkunden wir die spannenden Parallelen und Unterschiede zwischen Tanztherapie und Integrativer Atemtherapie. \nGemeinsam mit Julika Anna Bakos\, ausgebildete Tanz- und Ausdruckstherapeutin sowie Integrative Atemtherapeutin\, bekommst du:✨ einen theoretischen Einblick in die Tanztherapie✨ spannende Verbindungen zur Atemarbeit aufgezeigt✨ kleine Übungen zum Mitmachen – geeignet für jede:n \nEgal\, ob du aus der Atemarbeit kommst oder einfach neugierig bist: dieser Abend lädt dich ein\, Bewegung und Atem neu zu erfahren. \n📅 Wann: Dienstag\, 07.10.2025 | 20:00 Uhr📍 Wo: Online via Zoom (Anmeldung über unsere Website)💰 Teilnahme: kostenfrei – Spenden willkommen📹 Aufzeichnung: später auf unserem YouTube-Kanal verfügbar \n🔗 Jetzt anmelden \n\n\n\n\n\n 
URL:https://atemverein.de/event/atemnetzwerk-online-im-oktober-2/
CATEGORIES:ATEMnetzwerk Online
ATTACH;FMTTYPE=image/png:https://atemverein.de/wp-content/uploads/2025/09/ATEMnetzwerk-Online.png
LOCATION:https://atemverein.de/event/atemnetzwerk-online-im-oktober-2/
END:VEVENT
BEGIN:VEVENT
DTSTART;TZID=Europe/Berlin:20251011T100000
DTEND;TZID=Europe/Berlin:20251012T180000
DTSTAMP:20260424T091223
CREATED:20240517T153943Z
LAST-MODIFIED:20241105T175522Z
UID:10000022-1760176800-1760292000@atemverein.de
SUMMARY:PROFESSIONALISIERUNG: atmen+ ATEMTECHNIKEN
DESCRIPTION:Möchtest Du Anregungen für Deine Arbeit als Atemtrainer*in bekommen\, ist dieses Wochenende mit Gerdi und Maria genau das richtige für Dich! Die beiden gehen mit Dir die neuesten Begleitmethoden in Theorie und Praxis durch\, sodass Du sowohl für Dich selbst\, als auch für Deine Klient*innen etwas mitnehmen kannst. \n\n\n\nEs werden aktuelle Atemübungen und ihre Wirkung vorgestellt – immer mit dem Bezug auf mögliche Situationen in der Arbeit mit Klient*innen. Dazu geben Gerdi und Maria Fallbeispiele aus ihrer Arbeit und stellen für Fragen ihre langjährige Erfahrung in der Atemtherapie zur Verfügung. \n\n\n\nDu erfährst dabei\, welche Atemübungen bewusst therapeutisch eingesetzt werden und lernst weitere selbstregulierende und heilsame Übungen kennen\, die den Klient*innen auch als ‚Hausaufgabe‘ mitgegeben werden können. Im Seminar wendest Du die vorgestellten Übungen bei Dir selbst an und übst sie in einer sitzungsähnlichen Situation mit einer anderen Person. \n\n\n\nNeben der Begleitung mittels therapeutisch eingesetzter Atmung lernst Du Möglichkeiten der achtsamen\, unterstützenden Berührung in Atemsitzungen kennen. Dabei liegt immer das Wohlbefinden des*der Begleiteten im Fokus. Es gibt keine Allgemeinvorgabe\, welche Berührung in welcher Situation die richtige ist. Du schulst Dein empathisches Empfinden\, wie eine Berührung durch Dich den Prozess fördern kann. \n\n\n\nMit diesem Wochenende frischst Du Dein Wissen über Atemübungen auf und beschäftigst Dich mit therapeutischer Berührung in der Begleitung von Klient*innen. Ein Seminar für Dich und Deine Arbeit in der Atemtherapie!
URL:https://atemverein.de/event/atemtechniken-und-beruehrung/
LOCATION:RAUM für ZEIT\, Im Hilgersfeld 24\, Bergisch Gladbach\, 51427
CATEGORIES:Atemschule
ATTACH;FMTTYPE=image/png:https://atemverein.de/wp-content/uploads/2024/05/12-500_72_Atemtechniken_Geronimo-Giqueux-1.png
END:VEVENT
BEGIN:VEVENT
DTSTART;TZID=Europe/Berlin:20251025T100000
DTEND;TZID=Europe/Berlin:20251025T180000
DTSTAMP:20260424T091223
CREATED:20240517T172618Z
LAST-MODIFIED:20241105T175312Z
UID:10000029-1761386400-1761415200@atemverein.de
SUMMARY:Schnuppertraining: atmen+ ERLEBNISTAG
DESCRIPTION:Denkst Du darüber nach\, eine Ausbildung in Atem- und Bewusstseinstraining im nächsten Jahr bei uns zu beginnen? Mit dem Erlebnistag hast Du die Möglichkeit\, unverbindlich in das Training hineinzuschnuppern. \n\n\n\nDieser Tag ist wie ein Beispieltag unserer Ausbildungsseminare aufgebaut und gibt Dir praktische Einblicke in die Arbeitsweise und Struktur in der Atemtherapie\, wie wir sie lehren. Du wirst von den Ausbildungsleiterinnen Gerdi und Maria durch den Tag geführt\, wodurch Du Dir ein authentisches Bild des Trainings machen kannst. \n\n\n\nDer Erlebnistag ist eine Alternative zum Infoabend\, funktioniert aber auch als Ergänzung zu unserem Infoangebot. Im Unterschied zu den Infoabenden steht hier die Praxis im Vordergrund: Einfache\, aber effektive Atemrunden werden mit sicherer Begleitung durchgeführt. Du spürst die Wirkung des bewussten Atems am eigenen Körper. \n\n\n\nMit der Erfahrung der atemtherapeutischen Methoden kannst Du eine gute Entscheidung treffen\, ob Du den Ausbildungsweg zum*zur Atem- und Bewusstseinstrainer*in im nächsten Jahr für Dich wählen möchtest. Wir freuen uns auf Dich und Deine Neugier!
URL:https://atemverein.de/event/erlebnistag/
LOCATION:RAUM für ZEIT\, Im Hilgersfeld 24\, Bergisch Gladbach\, 51427
CATEGORIES:Atemschule
ATTACH;FMTTYPE=image/png:https://atemverein.de/wp-content/uploads/2024/05/17-500_72_training_frank-mckenna.png
END:VEVENT
BEGIN:VEVENT
DTSTART;TZID=Europe/Berlin:20251026T110000
DTEND;TZID=Europe/Berlin:20251026T140000
DTSTAMP:20260424T091223
CREATED:20241105T172609Z
LAST-MODIFIED:20241212T142142Z
UID:10000064-1761476400-1761487200@atemverein.de
SUMMARY:Offene Atemgruppe: Atmen zum Sonntag
DESCRIPTION:Die monatlich stattfindende offene Atemgruppe mit Maria\, Dirk und Tobias lädt zum bewusst verbundenen Atmen ein. Bei jedem Treffen wird diese Atmung vorgestellt und von einfachen\, erfrischenden Atem- und Körperübungen flankiert. \n\n\n\nDas bewusste Atmen führt Dich in Dein Inneres\, sodass Du bei Dir selbst ankommst\, tief durchatmest\, in Deine Gefühle hineinatmest und Dich damit freiatmest. Mit dem Atmen übst Du Dich im Loslassen und tankst Kraft. Altes kann sich lösen und verarbeitet werden. \n\n\n\nDieser Sonntag Vormittag verbindet Dich mit Deinem Atem und Deinen Gefühlen und zeigt Dir\, wie Du Dich über das Raumgeben Deiner emotionalen Prozesse auf die Integration Deiner Themen zubewegst. Du wirst von einem erfahrenen Team begleitet\, das Dich auf diesem Weg unterstützt. \n\n\n\nDas gemeinsame Atmen in der Gruppe verstärkt den Atemfluss und öffnet den Raum für persönliche Themen\, wie das Raumnehmen und Zeigen der eigenen Gefühle und die Wahrnehmung der eigenen Grenzen. Es ergibt sich ein großes Übungsfeld zwischen dem eigenen Inneren und Äußeren. \n\n\n\nTermin: Sonntag\, 19.10.2025\, 11:00 – 14:00 UhrOrt: RAUM für ZEIT\, Bergisch Gladbach
URL:https://atemverein.de/event/offene-atemgruppe-atmen-zum-sonntag-9/
LOCATION:RAUM für ZEIT\, Im Hilgersfeld 24\, Bergisch Gladbach\, 51427
CATEGORIES:Atemschule
ATTACH;FMTTYPE=image/png:https://atemverein.de/wp-content/uploads/2024/06/500_72_Atmen-zum-Sonntag_Martin-Misere.png
END:VEVENT
BEGIN:VEVENT
DTSTART;TZID=Europe/Berlin:20251029T100000
DTEND;TZID=Europe/Berlin:20251029T140000
DTSTAMP:20260424T091223
CREATED:20250831T101437Z
LAST-MODIFIED:20250831T101437Z
UID:10000101-1761732000-1761746400@atemverein.de
SUMMARY:Atemtage für Atemtherapeut:innen
DESCRIPTION:Supervision\, Selbstfürsorge\, persönliche Weiterentwicklung: Die Atemtage bieten ausgebildeten Atemtherapeut:innen einen geschützten Rahmen\, um persönliche Themen oder solche\, die im Praxisalltag aufgetreten sind\, zu klären und den eigenen Entwicklungsprozess in kollegialer Verbindung und Gemeinschaft fortzusetzen. \n  \nJede/r Teilnehmer:in erhält eine individuelle 1:1-Prozessbegleitung in Form des „Sharings“; wir beginnen und enden mit einer gemeinsamen Atemrunde. \n  \nAnja Klaus ist seit mehr als 10 Jahren als Heilpraktikerin (Psychotherapie) und Integrative Atemtherapeutin in eigener Praxis tätig. Seit 6 Jahren führt sie regelmäßig Supervisionen für Kolleginnen und Kollegen durch. \n  \nMehr Infos: https://www.anjaklaus.de/atemtage-fuer-atemtherapeutinnen/ \nDatum: 29. Oktober 2025 \nZeit: 10 – 14 Uhr \nOrt: \nPraxis für Integrative Atemtherapie \nRoseggerstr. 47 \n40470 Düsseldorf
URL:https://atemverein.de/event/atemtage-fuer-atemtherapeutinnen/
ATTACH;FMTTYPE=image/jpeg:https://atemverein.de/wp-content/uploads/2025/08/20240824_DSC03206.jpeg
END:VEVENT
END:VCALENDAR