BEGIN:VCALENDAR
VERSION:2.0
PRODID:-//ATEMverein Deutschland e.V. - ECPv6.15.17//NONSGML v1.0//EN
CALSCALE:GREGORIAN
METHOD:PUBLISH
X-ORIGINAL-URL:https://atemverein.de
X-WR-CALDESC:Veranstaltungen für ATEMverein Deutschland e.V.
REFRESH-INTERVAL;VALUE=DURATION:PT1H
X-Robots-Tag:noindex
X-PUBLISHED-TTL:PT1H
BEGIN:VTIMEZONE
TZID:Europe/Berlin
BEGIN:DAYLIGHT
TZOFFSETFROM:+0100
TZOFFSETTO:+0200
TZNAME:CEST
DTSTART:20250330T010000
END:DAYLIGHT
BEGIN:STANDARD
TZOFFSETFROM:+0200
TZOFFSETTO:+0100
TZNAME:CET
DTSTART:20251026T010000
END:STANDARD
BEGIN:DAYLIGHT
TZOFFSETFROM:+0100
TZOFFSETTO:+0200
TZNAME:CEST
DTSTART:20260329T010000
END:DAYLIGHT
BEGIN:STANDARD
TZOFFSETFROM:+0200
TZOFFSETTO:+0100
TZNAME:CET
DTSTART:20261025T010000
END:STANDARD
BEGIN:DAYLIGHT
TZOFFSETFROM:+0100
TZOFFSETTO:+0200
TZNAME:CEST
DTSTART:20270328T010000
END:DAYLIGHT
BEGIN:STANDARD
TZOFFSETFROM:+0200
TZOFFSETTO:+0100
TZNAME:CET
DTSTART:20271031T010000
END:STANDARD
END:VTIMEZONE
BEGIN:VEVENT
DTSTART;TZID=Europe/Berlin:20260203T200000
DTEND;TZID=Europe/Berlin:20260203T211500
DTSTAMP:20260424T050808
CREATED:20260122T170811Z
LAST-MODIFIED:20260203T180438Z
UID:10000117-1770148800-1770153300@atemverein.de
SUMMARY:ATEMnetzwerk Online im Februar: Voice Dialogue - "Ich bin viele" mit Heinz Gerd Lange
DESCRIPTION:ATEMnetzwerk Online | Dienstag\, 03. Februar 2026 | 20:00 UhrDie perfekte Ergänzung zur Atemtherapie \nWir denken oft wir wären eine homogene Persönlichkeit …aber weit gefehlt! Verschiedenste Persönlichkeitsanteile befinden sich in Dauerkonkurrenz um die Führung deines Lebens. Der innere Kritiker\, dein Antreiber\, das Arbeitstier\, der Faulenzer\, dein inneres Kind\, der Saboteur etc. sind einige Anteile die Dir vielleicht bekannt vorkommen. Daneben gibt es aber auch haufenweise unterdrückte Schattenanteile die freien Lauf in deinem Unterbewusstsein haben und vielleicht genau das verhindern was Du eigentlich willst….denk nur mal an deine „guten“ NeujahrsVorsätze und was Du davon tatsächlich verwirklichst und mit welchen Widerständen du dabei zu kämpfen hast. \nDas Ziel von Voice Dialogue ist es\, stückweise mehr über Dich und diese unbewussten\, inneren Steuerdynamiken herauszufinden. Was dich ausmacht\, mit welchen Anteilen Du identifiziert bist\, und warum du so reagierst\, wie du reagierst. \nDurch das bewusste Erleben und der Arbeit mit Deinen verschiedenen Persönlichkeitsaspekten entsteht neues Wahlpotential und eine neue Freiheit\, die es Dir erlaubt Dich aus alten Identifikationsmustern zu lösen und Dich „neu zu erfinden“. Damit reagierst Du nicht mehr automatisch und unbewusst\, sondern agierst bewusst und selbstbestimmt. Dies erschließt Dir neue Entscheidungs- und Handlungsmöglichkeiten\, und bringt Dir neue innere Unabhängigkeit. Eine wunderbare Methode und ein fantastisches Transformationswerkzeug.  \nIn diesem Vortrag führt dich Heinz Gerd Lange\, Direktor des InBreath Ateminstitutes und Voice Dialogue Ausbilder in das tiefen transfomative Werkzeug Voice Dialogue ein\, und zeigt auf warum diese Technik die perfekte Ergänzung zur Atemtherapie ist. \nMehr infos zu allen Angeboten auf https://inbreath.org/ und https://atem.training/org \n  \nHeinz Gerd Lange: Trainer für Atemarbeit \, Metaphysik-Coach\, internationaler Dozent\, und Seminarleiter. Spezialisiert auf Re-patterning\, bioenergetische Integrität sowie persönliche Transformation und Bewusstseinsveränderungen. \nAuf seiner lebenslangen persönlichen Suche nach innerer Erleuchtung und persönlicher Meisterschaft durch die großen Weltreligionen (inkl. umfangreicher Meditationspraktiken) kam Heinz Gerd vor über 30 Jahren zur Persönlichkeitsveränderung durch Atemarbeit. Seitdem ist er bestrebt\, Raum zu schaffen\, in dem sich die Kernessenz des Menschen entfalten kann. \nAusgebildet in 7 verschiedenen Ansätzen der Atemtherapie\, Innerer Kinderarbeit\, Voice Dialogue\, Familiendynamik\, NLP\, Körper- und Energiearbeit\, liegt sein Fokus auf Gedankenneustrukturierung\, bioenergetischer Integrität sowie bewusster Lebensveränderungen und allem\, was das Herz öffnet. \nHeinz Gerd ist Direktor des Institute for Breath Therapy and Transformational Healing (InBreath) das er zusammen mit seiner Frau Lera leitet. Das Institut bietet momentan seine Atemausbildung „Life Mastery” und Breath Mastery” Programm international in 6 europäischen Ländern an. \nHeinz Gerd ist der Nationalrepräsentant Deutschlands der International Breathwork Foundation (IBF)\, Mitglied Berufsvereinigung Integrative Atemtherapie Deutschland (BINTA)\, der British Rebirth Society (BRS) und des Österreichischen Atemvereins (ATMAN) sowie Mitbegründer und 1. Vorstand des Atem Vereins Deutschlands (AVD e.V.) \nEgal\, ob du aus der Atemarbeit kommst oder einfach neugierig bist: dieser Abend lädt dich ein\, Bewegung und Atem neu zu erfahren. \n📅 Wann: Dienstag\, 03.02.2026 | 20:00 Uhr📍 Wo: Online via Zoom  \nhttps://zoom.us/j/92105422337?pwd=NHMGbGvJnnm6ajxr6kRuiatzvBbVDJ.1\n \nMeeting-ID: 921 0542 2337\nKenncode: AVD-2024\n💰 Teilnahme: kostenfrei – Spenden willkommen📹 Aufzeichnung: später auf unserem YouTube-Kanal verfügbar \n 
URL:https://atemverein.de/event/atemnetzwerk-online-im-februar-2/
LOCATION:Online via Zoom
CATEGORIES:ATEMnetzwerk Online
ATTACH;FMTTYPE=image/png:https://atemverein.de/wp-content/uploads/2026/01/ATEMnetzwerk-Online.png
END:VEVENT
END:VCALENDAR